BEGIN:VCALENDAR
VERSION:2.0
PRODID:-//Christliches Zentrum Bielefeld - ECPv5.14.2.1//NONSGML v1.0//EN
CALSCALE:GREGORIAN
METHOD:PUBLISH
X-WR-CALNAME:Christliches Zentrum Bielefeld
X-ORIGINAL-URL:http://alt.czbielefeld.de
X-WR-CALDESC:Veranstaltungen für Christliches Zentrum Bielefeld
BEGIN:VTIMEZONE
TZID:Europe/Berlin
BEGIN:DAYLIGHT
TZOFFSETFROM:+0100
TZOFFSETTO:+0200
TZNAME:CEST
DTSTART:20200329T010000
END:DAYLIGHT
BEGIN:STANDARD
TZOFFSETFROM:+0200
TZOFFSETTO:+0100
TZNAME:CET
DTSTART:20201025T010000
END:STANDARD
END:VTIMEZONE
BEGIN:VEVENT
DTSTART;TZID=Europe/Berlin:20200501T080000
DTEND;TZID=Europe/Berlin:20200503T170000
DTSTAMP:20260421T215436
CREATED:20200220T190445Z
LAST-MODIFIED:20200318T104905Z
UID:4709-1588320000-1588525200@alt.czbielefeld.de
SUMMARY:40 Jahre CZB - Gemeindejubiläum
DESCRIPTION:40 Jahre CZB – unser Gemeindejubiläum \nweiter Infos folgen!
URL:http://alt.czbielefeld.de/event/40-jahre-czb-gemeindejubilaeum/
END:VEVENT
END:VCALENDAR