BEGIN:VCALENDAR
VERSION:2.0
PRODID:-//Christliches Zentrum Bielefeld - ECPv5.14.2.1//NONSGML v1.0//EN
CALSCALE:GREGORIAN
METHOD:PUBLISH
X-WR-CALNAME:Christliches Zentrum Bielefeld
X-ORIGINAL-URL:http://alt.czbielefeld.de
X-WR-CALDESC:Veranstaltungen für Christliches Zentrum Bielefeld
BEGIN:VTIMEZONE
TZID:Europe/Berlin
BEGIN:DAYLIGHT
TZOFFSETFROM:+0100
TZOFFSETTO:+0200
TZNAME:CEST
DTSTART:20210328T010000
END:DAYLIGHT
BEGIN:STANDARD
TZOFFSETFROM:+0200
TZOFFSETTO:+0100
TZNAME:CET
DTSTART:20211031T010000
END:STANDARD
END:VTIMEZONE
BEGIN:VEVENT
DTSTART;TZID=Europe/Berlin:20210111T193000
DTEND;TZID=Europe/Berlin:20210115T210000
DTSTAMP:20260421T182743
CREATED:20191129T101054Z
LAST-MODIFIED:20210113T092927Z
UID:4466-1610393400-1610744400@alt.czbielefeld.de
SUMMARY:Bielefelder Gebetstage
DESCRIPTION:Den traditionellen Start in das neue Jahr mit den Bielefelder Gebetstagen wollen wir auch 2021 weiterführen. Sie werden vom 11.-15. Januar unter dem Motto „Open the Gates“ – „Öffnet die Tore“ als riesiges Zoom-Gebetstreffen stattfinden. An den fünf Abenden starten wir um 19.30 Uhr und jeder kann aktiv beteiligt sein\, indem er während des Abends in einer „Breakout-Session“ (Kleingruppen) mit Christen aus anderen Gemeinden online zusammen betet. Der Link zu diesem Zoom-Treffen wird auf folgender Webseite rechtzeitig bekannt gegeben: \nbielefeldergebetstage.de \nSuper Sache! Lasst uns zahlreich mitmachen! Übrigens\, wenn du deine Teilnahme bekunden möchtest\, kannst du dich auf der Webseite anmelden.
URL:http://alt.czbielefeld.de/event/bielefelder-gebetstage/
CATEGORIES:Aktuell,Event - Menü
ATTACH;FMTTYPE=image/jpeg:http://alt.czbielefeld.de/wp-content/uploads/2019/11/Bielefelder_Gebetstage2021_1080_1080.jpg
END:VEVENT
END:VCALENDAR