BEGIN:VCALENDAR
VERSION:2.0
PRODID:-//Christliches Zentrum Bielefeld - ECPv5.14.2.1//NONSGML v1.0//EN
CALSCALE:GREGORIAN
METHOD:PUBLISH
X-WR-CALNAME:Christliches Zentrum Bielefeld
X-ORIGINAL-URL:http://alt.czbielefeld.de
X-WR-CALDESC:Veranstaltungen für Christliches Zentrum Bielefeld
BEGIN:VTIMEZONE
TZID:Europe/Berlin
BEGIN:DAYLIGHT
TZOFFSETFROM:+0100
TZOFFSETTO:+0200
TZNAME:CEST
DTSTART:20190331T010000
END:DAYLIGHT
BEGIN:STANDARD
TZOFFSETFROM:+0200
TZOFFSETTO:+0100
TZNAME:CET
DTSTART:20191027T010000
END:STANDARD
END:VTIMEZONE
BEGIN:VEVENT
DTSTART;TZID=Europe/Berlin:20190914T100000
DTEND;TZID=Europe/Berlin:20190914T170000
DTSTAMP:20260422T134435
CREATED:20190702T085713Z
LAST-MODIFIED:20190903T083801Z
UID:4059-1568455200-1568480400@alt.czbielefeld.de
SUMMARY:CZB Frauentag "Herzenssache"
DESCRIPTION:Wir laden Dich ein zu einem wunderschönen Tag unter Frauen. Bring gerne eine Freundin mit – Ihr seid herzlich willkommen! Was erwartet Dich?Lobpreis\, Workshop Stationen\, gute Gespräche\, leckeres Essen (Mittagessen\, Kaffee & Kuchen) \nAnmeldung: FrauentagAnmeldeschluß 31.08.2019 \nKosten: 15\,-€ \nWir freuen uns auf einen tollen Tag mit Dir! Dein CZB Frauenteam
URL:http://alt.czbielefeld.de/event/czb-frauentag-herzenssache/
LOCATION:Christliches Zentrum Bielefeld\, Gustav-Winkler-Straße 48\, Bielefeld\, NRW\, 33699\, Deutschland
CATEGORIES:Aktuell,Event - Menü,Frauen
ATTACH;FMTTYPE=image/png:http://alt.czbielefeld.de/wp-content/uploads/2019/07/Frauentag-14.png
ORGANIZER;CN="EinSinn%20-%20Frauenteam%20CZB":MAILTO:einsinn@czbi.de
GEO:51.9923156;8.6233388
X-APPLE-STRUCTURED-LOCATION;VALUE=URI;X-ADDRESS=Christliches Zentrum Bielefeld Gustav-Winkler-Straße 48 Bielefeld NRW 33699 Deutschland;X-APPLE-RADIUS=500;X-TITLE=Gustav-Winkler-Straße 48:geo:8.6233388,51.9923156
END:VEVENT
END:VCALENDAR