BEGIN:VCALENDAR
VERSION:2.0
PRODID:-//Christliches Zentrum Bielefeld - ECPv5.14.2.1//NONSGML v1.0//EN
CALSCALE:GREGORIAN
METHOD:PUBLISH
X-WR-CALNAME:Christliches Zentrum Bielefeld
X-ORIGINAL-URL:http://alt.czbielefeld.de
X-WR-CALDESC:Veranstaltungen für Christliches Zentrum Bielefeld
BEGIN:VTIMEZONE
TZID:Europe/Berlin
BEGIN:DAYLIGHT
TZOFFSETFROM:+0100
TZOFFSETTO:+0200
TZNAME:CEST
DTSTART:20190331T010000
END:DAYLIGHT
BEGIN:STANDARD
TZOFFSETFROM:+0200
TZOFFSETTO:+0100
TZNAME:CET
DTSTART:20191027T010000
END:STANDARD
END:VTIMEZONE
BEGIN:VEVENT
DTSTART;TZID=Europe/Berlin:20191207T150000
DTEND;TZID=Europe/Berlin:20191207T180000
DTSTAMP:20260422T081946
CREATED:20191115T081625Z
LAST-MODIFIED:20191115T081625Z
UID:2954-1575730800-1575741600@alt.czbielefeld.de
SUMMARY:Diamanten Kaffeetrinken
DESCRIPTION:Liebe Diamanten\, wir freuen uns\, nach der langen Sommerpause wieder auf ein fröhliches Miteinander! Wir werden eine gemütliche Zeit des Austausches bei Kaffee und Kuchen genießen. Wer gerne einen Kuchen backen möchte\, kann sich am Infotisch melden. Dort könnt ihr euch auch anmelden. Bringt gerne auch Freunde und Bekannte mit. Eingeladen sind alle ab 60\, und jeder\, der sich in dieser Altersgruppe wohlfühlt. \nBis dahin seid gesegnet!Für das DiamantenteamUlla \nAnmeldung: diamanten@czbi.de
URL:http://alt.czbielefeld.de/event/diamanten-kaffeetrinken-2/
LOCATION:Christliches Zentrum Bielefeld\, Gustav-Winkler-Straße 48\, Bielefeld\, NRW\, 33699\, Deutschland
CATEGORIES:Aktuell,Diamanten,Event - Menü,Frauen
ATTACH;FMTTYPE=image/jpeg:http://alt.czbielefeld.de/wp-content/uploads/2019/11/IMG_0849.jpg
ORGANIZER;CN="Diamanten%2060%2B":MAILTO:diamanten@czbi.de
GEO:51.9923156;8.6233388
X-APPLE-STRUCTURED-LOCATION;VALUE=URI;X-ADDRESS=Christliches Zentrum Bielefeld Gustav-Winkler-Straße 48 Bielefeld NRW 33699 Deutschland;X-APPLE-RADIUS=500;X-TITLE=Gustav-Winkler-Straße 48:geo:8.6233388,51.9923156
END:VEVENT
END:VCALENDAR