BEGIN:VCALENDAR
VERSION:2.0
PRODID:-//Christliches Zentrum Bielefeld - ECPv5.14.2.1//NONSGML v1.0//EN
CALSCALE:GREGORIAN
METHOD:PUBLISH
X-WR-CALNAME:Christliches Zentrum Bielefeld
X-ORIGINAL-URL:http://alt.czbielefeld.de
X-WR-CALDESC:Veranstaltungen für Christliches Zentrum Bielefeld
BEGIN:VTIMEZONE
TZID:Europe/Berlin
BEGIN:DAYLIGHT
TZOFFSETFROM:+0100
TZOFFSETTO:+0200
TZNAME:CEST
DTSTART:20190331T010000
END:DAYLIGHT
BEGIN:STANDARD
TZOFFSETFROM:+0200
TZOFFSETTO:+0100
TZNAME:CET
DTSTART:20191027T010000
END:STANDARD
END:VTIMEZONE
BEGIN:VEVENT
DTSTART;TZID=Europe/Berlin:20191109T093000
DTEND;TZID=Europe/Berlin:20191109T120000
DTSTAMP:20260422T120129
CREATED:20180509T082640Z
LAST-MODIFIED:20191006T172140Z
UID:2352-1573291800-1573300800@alt.czbielefeld.de
SUMMARY:Ehefrühstück
DESCRIPTION:Herzliche Einladung zum nächsten Ehefrühstück | 09. November 2019 im CZB. \nWorte schaffen Wirklichkeiten!Worte können wohltuen\, aber auch verletzen. Sie werden oft gedankenlos ausgesprochen\, doch Worte haben eine große Wirkung. „Die Zunge hat Macht über Leben und Tod ; wer sie gut nutzt genießt ihre Frucht“ (Spr. 18\,21).Wir haben das Vorrecht achtsam mit unseren Worten umzugehen und Worte des Leben in unsere Ehe und Familien zu sprechen und ihre lebensspendende Wirkung zu erleben. \nUnsere Referenten:Reiner und Birgit Czymmek (Team F Mitarbeiter in den Bereichen Wochenendseminare\, Eheabendkurse\, Paarberatung und Vorträge) \nAnmeldung bis 05. November an:hier
URL:http://alt.czbielefeld.de/event/ehefruehstueck/
LOCATION:Christliches Zentrum Bielefeld\, Gustav-Winkler-Straße 48\, Bielefeld\, NRW\, 33699\, Deutschland
CATEGORIES:Aktuell,Diamanten,Event - Menü,Frauen
ATTACH;FMTTYPE=image/jpeg:http://alt.czbielefeld.de/wp-content/uploads/2018/05/emmanuel-phaeton-ZFIkUxRTWHk-unsplash-e1570188226151.jpg
GEO:51.9923156;8.6233388
X-APPLE-STRUCTURED-LOCATION;VALUE=URI;X-ADDRESS=Christliches Zentrum Bielefeld Gustav-Winkler-Straße 48 Bielefeld NRW 33699 Deutschland;X-APPLE-RADIUS=500;X-TITLE=Gustav-Winkler-Straße 48:geo:8.6233388,51.9923156
END:VEVENT
END:VCALENDAR