BEGIN:VCALENDAR
VERSION:2.0
PRODID:-//Christliches Zentrum Bielefeld - ECPv5.14.2.1//NONSGML v1.0//EN
CALSCALE:GREGORIAN
METHOD:PUBLISH
X-WR-CALNAME:Christliches Zentrum Bielefeld
X-ORIGINAL-URL:http://alt.czbielefeld.de
X-WR-CALDESC:Veranstaltungen für Christliches Zentrum Bielefeld
BEGIN:VTIMEZONE
TZID:Europe/Berlin
BEGIN:DAYLIGHT
TZOFFSETFROM:+0100
TZOFFSETTO:+0200
TZNAME:CEST
DTSTART:20220327T010000
END:DAYLIGHT
BEGIN:STANDARD
TZOFFSETFROM:+0200
TZOFFSETTO:+0100
TZNAME:CET
DTSTART:20221030T010000
END:STANDARD
END:VTIMEZONE
BEGIN:VEVENT
DTSTART;TZID=Europe/Berlin:20220317T193000
DTEND;TZID=Europe/Berlin:20220317T220000
DTSTAMP:20260419T175728
CREATED:20220315T102116Z
LAST-MODIFIED:20220315T102116Z
UID:6090-1647545400-1647554400@alt.czbielefeld.de
SUMMARY:Fasten - warum und wie?
DESCRIPTION:Liebe Gemeinde\, \nwährend der neuen Predigtreihe Jesus 24/7 wollen wir auch praktisch werden. Geplant sind:\n– eine gemeinsame Fastenzeit vom 27.03. bis 03.04. und\n– gemeinsame Gebetszeiten vom 27.03. bis 10.04. \nUm uns auf die Fastenzeit vorzubereiten\, wird am 17.03. um 19.30 Uhr im CZB auf der Empore ein Seminar über Fasten angeboten. Themen dieses Seminars sind unter anderem:\n– Fasten – warum?\n– Unterschiedliche Arten des Fastens\n– Praktische Tipps zum Fasten\nDas Seminar ist offen für alle. Es besteht keine Testpflicht. Das Tragen einer Maske und Abstandhalten sind ausreichend. Wir freuen uns auf jeden\, der teilnimmt.
URL:http://alt.czbielefeld.de/event/fasten-warum-und-wie/
LOCATION:Christliches Zentrum Bielefeld\, Gustav-Winkler-Straße 48\, Bielefeld\, NRW\, 33699\, Deutschland
CATEGORIES:Aktuell
ATTACH;FMTTYPE=image/jpeg:http://alt.czbielefeld.de/wp-content/uploads/2022/03/jesus-24-7_01_01-scaled.jpg
GEO:51.9923156;8.6233388
X-APPLE-STRUCTURED-LOCATION;VALUE=URI;X-ADDRESS=Christliches Zentrum Bielefeld Gustav-Winkler-Straße 48 Bielefeld NRW 33699 Deutschland;X-APPLE-RADIUS=500;X-TITLE=Gustav-Winkler-Straße 48:geo:8.6233388,51.9923156
END:VEVENT
END:VCALENDAR