BEGIN:VCALENDAR
VERSION:2.0
PRODID:-//Christliches Zentrum Bielefeld - ECPv5.14.2.1//NONSGML v1.0//EN
CALSCALE:GREGORIAN
METHOD:PUBLISH
X-WR-CALNAME:Christliches Zentrum Bielefeld
X-ORIGINAL-URL:http://alt.czbielefeld.de
X-WR-CALDESC:Veranstaltungen für Christliches Zentrum Bielefeld
BEGIN:VTIMEZONE
TZID:Europe/Berlin
BEGIN:DAYLIGHT
TZOFFSETFROM:+0100
TZOFFSETTO:+0200
TZNAME:CEST
DTSTART:20200329T010000
END:DAYLIGHT
BEGIN:STANDARD
TZOFFSETFROM:+0200
TZOFFSETTO:+0100
TZNAME:CET
DTSTART:20201025T010000
END:STANDARD
END:VTIMEZONE
BEGIN:VEVENT
DTSTART;TZID=Europe/Berlin:20200220T193000
DTEND;TZID=Europe/Berlin:20200220T213000
DTSTAMP:20260422T011843
CREATED:20200130T102917Z
LAST-MODIFIED:20200220T192334Z
UID:4603-1582227000-1582234200@alt.czbielefeld.de
SUMMARY:grow2go:focus
DESCRIPTION:grow2go:focusThema: Auf dem Weg sein // 20.02. (Do.) | 19.30 Uhr | CZB \ngrow2go:focus – genau hinschauen um zu wachsen und loszugehen \nHinschauen (focus) wollen wir auf das\, was Gott schon lange in deinem Leben vorbereitet hat. Was hat er dir aufs Herz gelegt? Mit welchen Stärken hat er dich ausgestattet? Was hat er bereits geredet? Wo bist du schon unterwegs?Wachsen (grow) beginnt oft damit\, Wünsche und Ideen zu formulieren und sehr konkret zu beten und Glauben zu wagen. Was möchtest du lernen? Welche Übungsfelder brauchst du? Welche Hindernisse gilt es zu überwinden? Wofür willst du glauben?Losgehen (go) ist das\, wozu wir dich ermutigen. Welche Ideen und Träume möchtest du im Reich Gottes umsetzen? Was kannst du zusammen mit wem starten? Welche Vorbereitungen brauchst du? Wo kannst du dich anschließen? \nDer Ablauf des Abends und was du erwarten kannst:– Wir starten mit einer Anbetungszeit.– Einige Leute werden berichten\, wie sie hingeschaut haben und dann losgegangen sind.– Das Thema „Hat Gott einen Plan für dein Leben?“ steht im Mittelpunkt. Es geht um Gottes erstaunliche Idee\, sich in jedem Einzelnen von uns auf einzigartige Weise auszudrücken. Wie sieht dies in deinem Leben aus?– Du wirst in einer kleinen Gruppe Zeit zum Austausch und Gebet haben. \nWie du dich vorbereiten kannst:Denke bitte über folgende Fragen nach: Was ist auf deinem Herzen? Was macht Gott dir wichtig (z.B. durch sein Wort\, durch Träume\, prophetisch durch andere Menschen\, durch deine Begabungen oder durch Vorbilder)? Was bewegt dich und was hindert dich? \nMelde dich jetzt an: Mail \nAnmeldeschluss ist der 12. Februar.
URL:http://alt.czbielefeld.de/event/grow2gofocus/
LOCATION:Christliches Zentrum Bielefeld\, Gustav-Winkler-Straße 48\, Bielefeld\, NRW\, 33699\, Deutschland
CATEGORIES:Aktuell,Event - Menü
ATTACH;FMTTYPE=image/jpeg:http://alt.czbielefeld.de/wp-content/uploads/2017/07/dawid-zawila-279998.jpg
ORGANIZER;CN="Christliches%20Zentrum%20Bielefeld":MAILTO:info@czbielefeld.de
GEO:51.9923156;8.6233388
X-APPLE-STRUCTURED-LOCATION;VALUE=URI;X-ADDRESS=Christliches Zentrum Bielefeld Gustav-Winkler-Straße 48 Bielefeld NRW 33699 Deutschland;X-APPLE-RADIUS=500;X-TITLE=Gustav-Winkler-Straße 48:geo:8.6233388,51.9923156
END:VEVENT
END:VCALENDAR