BEGIN:VCALENDAR
VERSION:2.0
PRODID:-//Christliches Zentrum Bielefeld - ECPv5.14.2.1//NONSGML v1.0//EN
CALSCALE:GREGORIAN
METHOD:PUBLISH
X-WR-CALNAME:Christliches Zentrum Bielefeld
X-ORIGINAL-URL:http://alt.czbielefeld.de
X-WR-CALDESC:Veranstaltungen für Christliches Zentrum Bielefeld
BEGIN:VTIMEZONE
TZID:Europe/Berlin
BEGIN:DAYLIGHT
TZOFFSETFROM:+0100
TZOFFSETTO:+0200
TZNAME:CEST
DTSTART:20210328T010000
END:DAYLIGHT
BEGIN:STANDARD
TZOFFSETFROM:+0200
TZOFFSETTO:+0100
TZNAME:CET
DTSTART:20211031T010000
END:STANDARD
END:VTIMEZONE
BEGIN:VEVENT
DTSTART;TZID=Europe/Berlin:20211224T160000
DTEND;TZID=Europe/Berlin:20211224T173000
DTSTAMP:20260419T213006
CREATED:20201211T114045Z
LAST-MODIFIED:20211217T092822Z
UID:3363-1640361600-1640367000@alt.czbielefeld.de
SUMMARY:Heiligabend Gottesdienst im CZB
DESCRIPTION:Herzliche Einladung zum Heiligabendgottesdienst im CZB. (3G)\nWir bieten zudem eine Übersetzung in Englisch\, Russisch\, Türkisch und Polnisch an! \nBitte bucht\, wie gewohnt ein Ticket – wir freuen uns auf euch! \nAchtung:\nEine Anmeldung und Buchung eines Gottesdiensttickets ist Voraussetzung zur Teilnahme am Gottesdienst. Das Ticket muss am Sonntagmorgen mitgebracht und den Ordnern am CheckIn vorgezeigt werden.\n \nAb dem 7. November wird der Besuch unseres Gottesdienstes so aussehen: \n1. Eine Vorregistrierung auf unserer Webseite wird nach wie vor benötigt\, aber man wählt keinen Sitzplatz mehr aus. \n2. Alle Besucher\, die geimpft oder genesen sind oder eine aktuelle Testbescheinigung (die nicht älter als sechs Stunden sein darf) haben\, müssen eine FFP2 oder medizinische Maske tragen. \n3. Alle anderen Besucher werden sich selbst unter Aufsicht kostenlos testen können. Diese Besucher müssen eine FFP2 Maske tragen\, bis die Testergebnisse vorliegen. Ganz wichtig: Besucher\, die eine Testung brauchen\, müssen um 10 Uhr vor Ort sein.  Nach 10:15 wird keine Testung mehr angeboten. Die Selbsttestung unter Aufsicht findet im Bürotrakt statt. \n4. Mitarbeiter\, die eine Testung benötigen und wegen ihres Dienstes frühzeitig in der Gemeinde sind\, müssen so lange eine FFP2 Maske tragen\, bis sie getestet sind. \n5. Vorschul- und Schulkinder gelten als getestet. \n6. Es gibt freie Sitzplatzwahl. Die Sitzordnung auf der Empore (mit 1\,5m Abstand) wird beibehalten für alle\, die gerne mit Abstand zu anderen sitzen wollen. \n7. Für den gesamten Gottesdienst inkl. Lobpreis gilt Maskenpflicht (ab 6 Jahren). Eine Ausnahme gilt beim Kaffeetrinken in der alten Halle. \nFür alle\, die nicht am Präsenz-Gottesdienst teilnehmen können\, wird es weiterhin den Livestream über unseren YouTube Kanal geben. Hier geht es zu unserem YouTube Kanal: hier \n\n\n\n\n   \n        \n            JavaScript ist in Ihrem Browser deaktiviert. Um unseren Ticket-Shop ohne JavaScript aufzurufen\, klicken Sie bitte hier.
URL:http://alt.czbielefeld.de/event/heiligabend-gottesdienst-im-czb/
LOCATION:Christliches Zentrum Bielefeld\, Gustav-Winkler-Straße 48\, Bielefeld\, NRW\, 33699\, Deutschland
CATEGORIES:Aktuell
ATTACH;FMTTYPE=image/jpeg:http://alt.czbielefeld.de/wp-content/uploads/2020/12/christmas_02-01.jpg
ORGANIZER;CN="Christliches%20Zentrum%20Bielefeld":MAILTO:info@czbielefeld.de
GEO:51.9923156;8.6233388
X-APPLE-STRUCTURED-LOCATION;VALUE=URI;X-ADDRESS=Christliches Zentrum Bielefeld Gustav-Winkler-Straße 48 Bielefeld NRW 33699 Deutschland;X-APPLE-RADIUS=500;X-TITLE=Gustav-Winkler-Straße 48:geo:8.6233388,51.9923156
END:VEVENT
END:VCALENDAR