BEGIN:VCALENDAR
VERSION:2.0
PRODID:-//Christliches Zentrum Bielefeld - ECPv5.14.2.1//NONSGML v1.0//EN
CALSCALE:GREGORIAN
METHOD:PUBLISH
X-WR-CALNAME:Christliches Zentrum Bielefeld
X-ORIGINAL-URL:http://alt.czbielefeld.de
X-WR-CALDESC:Veranstaltungen für Christliches Zentrum Bielefeld
BEGIN:VTIMEZONE
TZID:Europe/Berlin
BEGIN:DAYLIGHT
TZOFFSETFROM:+0100
TZOFFSETTO:+0200
TZNAME:CEST
DTSTART:20210328T010000
END:DAYLIGHT
BEGIN:STANDARD
TZOFFSETFROM:+0200
TZOFFSETTO:+0100
TZNAME:CET
DTSTART:20211031T010000
END:STANDARD
END:VTIMEZONE
BEGIN:VEVENT
DTSTART;TZID=Europe/Berlin:20210915T193000
DTEND;TZID=Europe/Berlin:20210915T210000
DTSTAMP:20260421T132941
CREATED:20210908T072649Z
LAST-MODIFIED:20210908T072649Z
UID:5626-1631734200-1631739600@alt.czbielefeld.de
SUMMARY:IM NEBEL SO NAH - Theater
DESCRIPTION:Theaterstück „IM NEBEL SO NAH“ von Ewald Landgraf (Eintritt frei – Spende erbeten) \nIst das am Ende gar kein Hotel? Pastor Kay Sieder rätselt mit seiner Familie\, was passiert sein könnte. Seit der Ankunft geschehen mysteriöse Dinge: Tochter Svenja verschwindet spurlos\, die Bediensteten sind nicht wirklich entgegenkommend und die Gangtüren bleiben abgesperrt. Schwägerin Anja heult am Telefon – von ihr erhalten sie auch keine Antworten. Und im Nebenzimmer faselt ein gewisser Karlo von einer dunklen Bedrohung – und warum Superman existiert! Kay wähnt sich im völlig falschen Film\, als er zudem feststellen muss\, dass sein Glaube eine Rolle zu spielen scheint. Und woher kommt plötzlich sein „Tick“\, keinerlei Nähe mehr ertragen zu können? Auf der Suche nach Svenja gräbt der Geistliche immer tiefer in den Abgründen seiner Seele. Die ihn beobachten\, verfolgen mit Nachdruck ein klares Ziel. Der Pastor sieht keine andere Wahl\, als sich samt seiner Familie ausgerechnet dem ominösen Karlo anzuvertrauen – und … zu fliehen. \nDas mitreißende und unterhaltsame Bühnenstück von Ewald Landgraf wurde im Lockdown produziert und Corona-konform gestaltet. Es entstand ein einzigartiges Werk\, das fortan das Repertoire von TZE bereichert. \nDauer: 80 Minuten – ab 12 Jahren \nTicketbestellung:\nhttps://tze2.church-events.de/
URL:http://alt.czbielefeld.de/event/im-nebel-so-nah-theater/
LOCATION:Christliches Zentrum Bielefeld\, Gustav-Winkler-Straße 48\, Bielefeld\, NRW\, 33699\, Deutschland
CATEGORIES:Aktuell,Event - Menü,Frauen,Jugend
ATTACH;FMTTYPE=image/jpeg:http://alt.czbielefeld.de/wp-content/uploads/2021/09/csm_Motiv_337762fa9c.jpg
GEO:51.9923156;8.6233388
X-APPLE-STRUCTURED-LOCATION;VALUE=URI;X-ADDRESS=Christliches Zentrum Bielefeld Gustav-Winkler-Straße 48 Bielefeld NRW 33699 Deutschland;X-APPLE-RADIUS=500;X-TITLE=Gustav-Winkler-Straße 48:geo:8.6233388,51.9923156
END:VEVENT
END:VCALENDAR