BEGIN:VCALENDAR
VERSION:2.0
PRODID:-//Christliches Zentrum Bielefeld - ECPv5.14.2.1//NONSGML v1.0//EN
CALSCALE:GREGORIAN
METHOD:PUBLISH
X-WR-CALNAME:Christliches Zentrum Bielefeld
X-ORIGINAL-URL:http://alt.czbielefeld.de
X-WR-CALDESC:Veranstaltungen für Christliches Zentrum Bielefeld
BEGIN:VTIMEZONE
TZID:Europe/Berlin
BEGIN:DAYLIGHT
TZOFFSETFROM:+0100
TZOFFSETTO:+0200
TZNAME:CEST
DTSTART:20180325T010000
END:DAYLIGHT
BEGIN:STANDARD
TZOFFSETFROM:+0200
TZOFFSETTO:+0100
TZNAME:CET
DTSTART:20181028T010000
END:STANDARD
END:VTIMEZONE
BEGIN:VEVENT
DTSTART;TZID=Europe/Berlin:20181019T190000
DTEND;TZID=Europe/Berlin:20181019T220000
DTSTAMP:20260422T234017
CREATED:20180824T074805Z
LAST-MODIFIED:20181010T081654Z
UID:3024-1539975600-1539986400@alt.czbielefeld.de
SUMMARY:Israel Grundkurs
DESCRIPTION:Hast du dich schon öfter gefragt\, was Israel eigentlich für eine Rolle spielt in unserer Welt? Und hast du schon mal über uns Christen in Bezug auf Israel nachgedacht? Oder hast du dich schon mal gewundert\, warum Israel immer Schlagzeilen macht\, während andere Massaker nur am Rande erwähnt werden? Israel spielt für das Wiederkommen des Messias eine große Rolle\, deshalb ist es wirklich wichtig\, die Zeichen der Zeit zu verstehen. \nGerne möchte ich alle Interessierten einladen\, zu einem weiteren Israel-Grundkurs im Präsent in Bielefeld (Wittekindstraße 42).Wann:Fr. 19. Oktober 19 bis 22 Uhr Fr. 26. Oktober 19 bis 22 Uhr Fr. 02. November 19 bis 22 UhrFr. 16. November 19 bis 22 UhrFr. 23. November 19 bis 22 Uhr \nAnmeldung und Infos:Eva-Maria Falkenhagen
URL:http://alt.czbielefeld.de/event/israel-grundkurs/
LOCATION:praesent im Bielefelder Westen\, Wittekindstraße 42\, Bielefeld\, 33615\, Deutschland
CATEGORIES:Aktuell,Frauen,Jugend
ATTACH;FMTTYPE=image/jpeg:http://alt.czbielefeld.de/wp-content/uploads/2018/08/global_israel_rob-bye-98954-1.jpg
GEO:52.0319908;8.5239877
X-APPLE-STRUCTURED-LOCATION;VALUE=URI;X-ADDRESS=praesent im Bielefelder Westen Wittekindstraße 42 Bielefeld 33615 Deutschland;X-APPLE-RADIUS=500;X-TITLE=Wittekindstraße 42:geo:8.5239877,52.0319908
END:VEVENT
END:VCALENDAR