BEGIN:VCALENDAR
VERSION:2.0
PRODID:-//Christliches Zentrum Bielefeld - ECPv5.14.2.1//NONSGML v1.0//EN
CALSCALE:GREGORIAN
METHOD:PUBLISH
X-WR-CALNAME:Christliches Zentrum Bielefeld
X-ORIGINAL-URL:http://alt.czbielefeld.de
X-WR-CALDESC:Veranstaltungen für Christliches Zentrum Bielefeld
BEGIN:VTIMEZONE
TZID:Europe/Berlin
BEGIN:DAYLIGHT
TZOFFSETFROM:+0100
TZOFFSETTO:+0200
TZNAME:CEST
DTSTART:20200329T010000
END:DAYLIGHT
BEGIN:STANDARD
TZOFFSETFROM:+0200
TZOFFSETTO:+0100
TZNAME:CET
DTSTART:20201025T010000
END:STANDARD
END:VTIMEZONE
BEGIN:VEVENT
DTSTART;TZID=Europe/Berlin:20201102T200000
DTEND;TZID=Europe/Berlin:20201106T200000
DTSTAMP:20260421T200732
CREATED:20201030T121205Z
LAST-MODIFIED:20201031T085720Z
UID:5004-1604347200-1604692800@alt.czbielefeld.de
SUMMARY:Lobpreis- und Gebetswoche
DESCRIPTION:Die Lobpreis- und Gebetswoche ist leider abgesagt! Eine Online-Gebetswoche für den 09.-13.November ist in Planung. Weitere Infos folgen!
URL:http://alt.czbielefeld.de/event/lobpreis-und-gebetswoche/
LOCATION:Christliches Zentrum Bielefeld\, Gustav-Winkler-Straße 48\, Bielefeld\, NRW\, 33699\, Deutschland
CATEGORIES:Aktuell,Event - Menü,Jugend
ATTACH;FMTTYPE=image/jpeg:http://alt.czbielefeld.de/wp-content/uploads/2020/10/2020_06_Unlimited_0048_web2.jpg
GEO:51.9923156;8.6233388
X-APPLE-STRUCTURED-LOCATION;VALUE=URI;X-ADDRESS=Christliches Zentrum Bielefeld Gustav-Winkler-Straße 48 Bielefeld NRW 33699 Deutschland;X-APPLE-RADIUS=500;X-TITLE=Gustav-Winkler-Straße 48:geo:8.6233388,51.9923156
END:VEVENT
END:VCALENDAR