BEGIN:VCALENDAR
VERSION:2.0
PRODID:-//Christliches Zentrum Bielefeld - ECPv5.14.2.1//NONSGML v1.0//EN
CALSCALE:GREGORIAN
METHOD:PUBLISH
X-WR-CALNAME:Christliches Zentrum Bielefeld
X-ORIGINAL-URL:http://alt.czbielefeld.de
X-WR-CALDESC:Veranstaltungen für Christliches Zentrum Bielefeld
BEGIN:VTIMEZONE
TZID:Europe/Berlin
BEGIN:DAYLIGHT
TZOFFSETFROM:+0100
TZOFFSETTO:+0200
TZNAME:CEST
DTSTART:20200329T010000
END:DAYLIGHT
BEGIN:STANDARD
TZOFFSETFROM:+0200
TZOFFSETTO:+0100
TZNAME:CET
DTSTART:20201025T010000
END:STANDARD
END:VTIMEZONE
BEGIN:VEVENT
DTSTART;TZID=Europe/Berlin:20200321T100000
DTEND;TZID=Europe/Berlin:20200321T170000
DTSTAMP:20260421T232832
CREATED:20170719T122802Z
LAST-MODIFIED:20200318T103501Z
UID:649-1584784800-1584810000@alt.czbielefeld.de
SUMMARY:grow2go:day
DESCRIPTION:Zusammen mit dir und anderen möchten wir uns auf eine spannende Entdeckungsreise begeben. Wir werden uns gemeinsam anschauen\, was Gott bereits in dich hineingelegt hat\, in welcher Einzigartigkeit deine Persönlichkeit\, Gaben\, Werte\, Leidenschaften und Fähigkeiten zusammenspielen und was Gott bisher schon gesprochen hat. Hierauf aufbauend möchten wir genau hinsehen\, wie Gott gemeinsam mit dir sein Reich bauen möchte. \ngrow2go:day heißt es\, weil wir uns einen ganzen Tag Zeit nehmen wollen\, um richtig tief einzusteigen. An einem zusätzlichen Vorbereitungsabend wirst du vorab eine Einführung in die Unterlagen erhalten: DISG-Profi l\, Gabenprofi l\, Werteprofi l\, Fähigkeitsworkshop und weitere. Die Materialien und die Verpflegung kosten 60\,- €.* \ngrow2go:day ist für dich richtig\, wenn du dich herausfordern lassen willst\, mutig und zielgerichtet mit Gott unterwegs zu sein. \nAnmeldung bis 03.März: \ngrow2go.day@czbi.de \nEuer grow2go-Team
URL:http://alt.czbielefeld.de/event/mwe2018/
LOCATION:Christliches Zentrum Bielefeld\, Gustav-Winkler-Straße 48\, Bielefeld\, NRW\, 33699\, Deutschland
ATTACH;FMTTYPE=image/jpeg:http://alt.czbielefeld.de/wp-content/uploads/2017/07/dawid-zawila-279998.jpg
ORGANIZER;CN="Christliches%20Zentrum%20Bielefeld":MAILTO:info@czbielefeld.de
GEO:51.9923156;8.6233388
X-APPLE-STRUCTURED-LOCATION;VALUE=URI;X-ADDRESS=Christliches Zentrum Bielefeld Gustav-Winkler-Straße 48 Bielefeld NRW 33699 Deutschland;X-APPLE-RADIUS=500;X-TITLE=Gustav-Winkler-Straße 48:geo:8.6233388,51.9923156
END:VEVENT
END:VCALENDAR