BEGIN:VCALENDAR
VERSION:2.0
PRODID:-//Christliches Zentrum Bielefeld - ECPv5.14.2.1//NONSGML v1.0//EN
CALSCALE:GREGORIAN
METHOD:PUBLISH
X-WR-CALNAME:Christliches Zentrum Bielefeld
X-ORIGINAL-URL:http://alt.czbielefeld.de
X-WR-CALDESC:Veranstaltungen für Christliches Zentrum Bielefeld
BEGIN:VTIMEZONE
TZID:Europe/Berlin
BEGIN:DAYLIGHT
TZOFFSETFROM:+0100
TZOFFSETTO:+0200
TZNAME:CEST
DTSTART:20200329T010000
END:DAYLIGHT
BEGIN:STANDARD
TZOFFSETFROM:+0200
TZOFFSETTO:+0100
TZNAME:CET
DTSTART:20201025T010000
END:STANDARD
END:VTIMEZONE
BEGIN:VEVENT
DTSTART;TZID=Europe/Berlin:20200101T180000
DTEND;TZID=Europe/Berlin:20200101T190000
DTSTAMP:20260422T062619
CREATED:20181231T101202Z
LAST-MODIFIED:20191205T104452Z
UID:3443-1577901600-1577905200@alt.czbielefeld.de
SUMMARY:Neujahrsgottesdienst
DESCRIPTION:Neujahrsgottesdienst mit Abendmahl im Christlichen Zentrum Bielefeld.
URL:http://alt.czbielefeld.de/event/neujahrsgottesdienst/
CATEGORIES:Aktuell
ATTACH;FMTTYPE=image/jpeg:http://alt.czbielefeld.de/wp-content/uploads/2018/06/Willkommen_Godi-e1602142000997.jpg
ORGANIZER;CN="Christliches%20Zentrum%20Bielefeld":MAILTO:info@czbielefeld.de
END:VEVENT
END:VCALENDAR