BEGIN:VCALENDAR
VERSION:2.0
PRODID:-//Christliches Zentrum Bielefeld - ECPv5.14.2.1//NONSGML v1.0//EN
CALSCALE:GREGORIAN
METHOD:PUBLISH
X-WR-CALNAME:Christliches Zentrum Bielefeld
X-ORIGINAL-URL:http://alt.czbielefeld.de
X-WR-CALDESC:Veranstaltungen für Christliches Zentrum Bielefeld
BEGIN:VTIMEZONE
TZID:Europe/Berlin
BEGIN:DAYLIGHT
TZOFFSETFROM:+0100
TZOFFSETTO:+0200
TZNAME:CEST
DTSTART:20190331T010000
END:DAYLIGHT
BEGIN:STANDARD
TZOFFSETFROM:+0200
TZOFFSETTO:+0100
TZNAME:CET
DTSTART:20191027T010000
END:STANDARD
END:VTIMEZONE
BEGIN:VEVENT
DTSTART;TZID=Europe/Berlin:20190614T180000
DTEND;TZID=Europe/Berlin:20190615T160000
DTSTAMP:20260422T170658
CREATED:20190315T103818Z
LAST-MODIFIED:20190315T103818Z
UID:3798-1560535200-1560614400@alt.czbielefeld.de
SUMMARY:Seminar "Herkunftsfamilie"
DESCRIPTION:Familienbande – Wenn die Erfahrungen aus der Herkunftsfamilie das Eheleben mitgestaltenDie Erfahrungen im Elternhaus prägen wie keine andere Lebensphase das Selbstbild\, das Rollenverständnis von Mann und Frau\, die Bewältigungsstrategien in Krisenzeiten sowie das Bindungsverhalten in Beziehungen.Kai Mauritz und Helen Octavianus werden an diesem Wochenende aufzeigen\, wie die Erfahrungen in der Herkunftsfamilie das Erleben und Verhalten in der Gegenwart beeinflussen. Wie können Prägungen überwunden und neue Verhaltensmuster gelernt werden? \nAblauf/Programm: \n14. Juni 201918.00 Uhr: Start mit Abendessen19.30 Uhr : 1. Session/Vortrag \n15. Juni 201909.30 Uhr: Ankommen / Kaffee10.00 Uhr: 2. Session / Vortrtag13.00 Uhr: Mittagessen14.00 Uhr: 3. Session / Vortrag16.00 Uhr: Abschluss mit Kaffee/Kuchen \nKosten pro Ehepaar: 50€ \nAnmeldung: hier \n 
URL:http://alt.czbielefeld.de/event/seminar-herkunftsfamilie/
LOCATION:Christliches Zentrum Bielefeld\, Gustav-Winkler-Straße 48\, Bielefeld\, NRW\, 33699\, Deutschland
CATEGORIES:Aktuell
ATTACH;FMTTYPE=image/jpeg:http://alt.czbielefeld.de/wp-content/uploads/2019/03/roman-kraft-60298-unsplash-e1552646273315.jpg
ORGANIZER;CN="Christliches%20Zentrum%20Bielefeld":MAILTO:info@czbielefeld.de
GEO:51.9923156;8.6233388
X-APPLE-STRUCTURED-LOCATION;VALUE=URI;X-ADDRESS=Christliches Zentrum Bielefeld Gustav-Winkler-Straße 48 Bielefeld NRW 33699 Deutschland;X-APPLE-RADIUS=500;X-TITLE=Gustav-Winkler-Straße 48:geo:8.6233388,51.9923156
END:VEVENT
END:VCALENDAR