BEGIN:VCALENDAR
VERSION:2.0
PRODID:-//Christliches Zentrum Bielefeld - ECPv5.14.2.1//NONSGML v1.0//EN
CALSCALE:GREGORIAN
METHOD:PUBLISH
X-WR-CALNAME:Christliches Zentrum Bielefeld
X-ORIGINAL-URL:http://alt.czbielefeld.de
X-WR-CALDESC:Veranstaltungen für Christliches Zentrum Bielefeld
BEGIN:VTIMEZONE
TZID:Europe/Berlin
BEGIN:DAYLIGHT
TZOFFSETFROM:+0100
TZOFFSETTO:+0200
TZNAME:CEST
DTSTART:20200329T010000
END:DAYLIGHT
BEGIN:STANDARD
TZOFFSETFROM:+0200
TZOFFSETTO:+0100
TZNAME:CET
DTSTART:20201025T010000
END:STANDARD
END:VTIMEZONE
BEGIN:VEVENT
DTSTART;TZID=Europe/Berlin:20200205T193000
DTEND;TZID=Europe/Berlin:20200205T220000
DTSTAMP:20260422T043532
CREATED:20191211T104100Z
LAST-MODIFIED:20191211T104152Z
UID:4528-1580931000-1580940000@alt.czbielefeld.de
SUMMARY:Sexualität und Medien
DESCRIPTION:Es gibt viele Fragen\, Unsicherheiten und Tabus über die es wichtig wäre einmal zu sprechen. Die Veranstaltung „Wie frei sind wir wirklich? Sexualität und die medialen Herausforderungen“ mit Kai Mauritz vom Weißen Kreuz bietet viele Informationen und die Gelegenheit dazu. \nWann: 05.02.2020 um 19:30 UhrWo: Christliches Zentrum Bielefeld\, Gustav-Winkler-Straße 48Eine Anmeldung ist nicht erforderlich.
URL:http://alt.czbielefeld.de/event/sexualitaet-und-medien/
LOCATION:Christliches Zentrum Bielefeld\, Gustav-Winkler-Straße 48\, Bielefeld\, NRW\, 33699\, Deutschland
CATEGORIES:Aktuell,Diamanten,Event - Menü,Frauen,Jugend
ATTACH;FMTTYPE=image/jpeg:http://alt.czbielefeld.de/wp-content/uploads/2019/12/apple-692186_bearbeitet_web.jpg
ORGANIZER;CN="Christliches%20Zentrum%20Bielefeld":MAILTO:info@czbielefeld.de
GEO:51.9923156;8.6233388
X-APPLE-STRUCTURED-LOCATION;VALUE=URI;X-ADDRESS=Christliches Zentrum Bielefeld Gustav-Winkler-Straße 48 Bielefeld NRW 33699 Deutschland;X-APPLE-RADIUS=500;X-TITLE=Gustav-Winkler-Straße 48:geo:8.6233388,51.9923156
END:VEVENT
END:VCALENDAR